BEGIN:VCALENDAR
VERSION:2.0
PRODID:http://www.pfarrei-gillenfeld.de
BEGIN:VEVENT
UID:ab0f2c9c-1e93-11f1-8342-0242ac11002b-1779208200000-de
DTSTAMP:20260313T041820Z
DTSTART:20260519T163000Z
DTEND:20260519T171500Z
SUMMARY;LANGUAGE=de:Hl. Messe Jahresamt f. + Jakob Otten u. + Ehefrau Adele Otten
END:VEVENT
END:VCALENDAR
