BEGIN:VCALENDAR
VERSION:2.0
PRODID:http://www.pfarrei-gillenfeld.de
BEGIN:VEVENT
UID:aa149fef-1e93-11f1-8342-0242ac11002b-1778945400000-de
DTSTAMP:20260313T041818Z
DTSTART:20260516T153000Z
DTEND:20260516T163000Z
SUMMARY;LANGUAGE=de:Vorabendmesse Jahresamt f. + Josef Letsch f. ++ d. Fam. Merfeld-Pohlen
END:VEVENT
END:VCALENDAR
