BEGIN:VCALENDAR
VERSION:2.0
PRODID:http://www.pfarrei-gillenfeld.de
BEGIN:VEVENT
UID:a7d9a3fd-1e93-11f1-8342-0242ac11002b-1781969400000-de
DTSTAMP:20260313T041815Z
DTSTART:20260620T153000Z
DTEND:20260620T163000Z
SUMMARY;LANGUAGE=de:Vorabendmesse f. ++ Brigitta u. Ernst Stolz f. ++ Ehel. Nikolaus u. Elisabeth Jung u. + Maria Kutscheid
END:VEVENT
END:VCALENDAR
