BEGIN:VCALENDAR
VERSION:2.0
PRODID:http://www.pfarrei-gillenfeld.de
BEGIN:VEVENT
UID:a7a7977a-1e93-11f1-8342-0242ac11002b-1781974800000-de
DTSTAMP:20260313T041814Z
DTSTART:20260620T170000Z
DTEND:20260620T180000Z
SUMMARY;LANGUAGE=de:Vorabendmesse Jahresamt f. + Josef Jungen u. ++ d. Fam. Jungen-Mohrs
END:VEVENT
END:VCALENDAR
