BEGIN:VCALENDAR
VERSION:2.0
PRODID:http://www.pfarrei-gillenfeld.de
BEGIN:VEVENT
UID:a30622b9-1e93-11f1-8342-0242ac11002b-1781627400000-de
DTSTAMP:20260313T041806Z
DTSTART:20260616T163000Z
DTEND:20260616T171500Z
SUMMARY;LANGUAGE=de:Hl. Messe f. ++ Ehel. Elisabeth u. Emil Steffes u. ++ Kinder Erwin u. Hilde f. ++ Ehel. Robert u. Hedwig Otten u. + Sohn Helmut u. ++ Angeh.
END:VEVENT
END:VCALENDAR
