BEGIN:VCALENDAR
VERSION:2.0
PRODID:http://www.pfarrei-gillenfeld.de
BEGIN:VEVENT
UID:a1e76c37-1e93-11f1-8342-0242ac11002b-1780068600000-de
DTSTAMP:20260313T041805Z
DTSTART:20260529T153000Z
DTEND:20260529T161500Z
SUMMARY;LANGUAGE=de:Hl. Messe mit eucharistischem Segen f. ++ Ehel. Maria u. Leo Stappen u. + Sohn Peter
END:VEVENT
END:VCALENDAR
