BEGIN:VCALENDAR
VERSION:2.0
PRODID:http://www.pfarrei-gillenfeld.de
BEGIN:VEVENT
UID:9796230c-3ad5-11f1-a3e9-0242ac11002b-1785054600000-de
DTSTAMP:20260418T032047Z
DTSTART:20260726T083000Z
DTEND:20260726T093000Z
SUMMARY;LANGUAGE=de:Hochamt f. ++ Ehel. Josef u. Dorothea Zillgen, geb. Metzen u. + Tochter Hildegard u. ++ Eltern u. Geschw. (Messd. Gr. )
END:VEVENT
END:VCALENDAR
