BEGIN:VCALENDAR
VERSION:2.0
PRODID:http://www.pfarrei-gillenfeld.de
BEGIN:VEVENT
UID:80dfe25b-0637-11f1-8342-0242ac11002b-1777048200000-de
DTSTAMP:20260210T041808Z
DTSTART:20260424T163000Z
DTEND:20260424T170000Z
SUMMARY;LANGUAGE=de:Hl. Messe 6-Wochenamt f. + Inge Jax 1. Jahrged. f. + Martha Jax Jahresamt f. ++ Johann Stolz u. Marco Kienle u. ++ Erika Stolz u. Erwin Kienle f. Leb. u. ++ d. Fam. Kienle, Stolz, Zimmer u. Weber f. ++ Robert Jax u. Rainer Jax u. + Maria Scheid f. ++ Ehel. Erwin u. Cäcilia Schmitz u. ++ Angeh.
END:VEVENT
END:VCALENDAR
