BEGIN:VCALENDAR
VERSION:2.0
PRODID:http://www.pfarrei-gillenfeld.de
BEGIN:VEVENT
UID:80b15848-0637-11f1-8342-0242ac11002b-1776789000000-de
DTSTAMP:20260210T041807Z
DTSTART:20260421T163000Z
DTEND:20260421T171500Z
SUMMARY;LANGUAGE=de:Hl. Messe Jahresamt f. + Ewald Borsch u. leb. u. ++ d. Fam. Borsch-Waldorf f. + Frank Weber f. + Renè Zasada f. + Peter Ackermann u. ++ Angeh. f. ++ Ehel. Katharina u. Heinrich Janshen f. ++ Ehel. Mathilde u. Nikolaus Schommers f. ++ Ehel. Christine u. Alois Weber u. + Tochter Maria
END:VEVENT
END:VCALENDAR
