BEGIN:VCALENDAR
VERSION:2.0
PRODID:http://www.pfarrei-gillenfeld.de
BEGIN:VEVENT
UID:421e8485-4055-11f1-a3e9-0242ac11002b-1785659400000-de
DTSTAMP:20260425T031715Z
DTSTART:20260802T083000Z
DTEND:20260802T093000Z
SUMMARY;LANGUAGE=de:Hochamt mit Kinderkirche f. + Markus Feiten u. leb. u. ++ Angeh. f. ++ Ehel. Barbara u. Klaus Wilhelmy u. + Sohn Günter f. d. armen Seelen derer niemand gedenkt (Messd. Gr. )
END:VEVENT
END:VCALENDAR
