BEGIN:VCALENDAR
VERSION:2.0
PRODID:http://www.pfarrei-gillenfeld.de
BEGIN:VEVENT
UID:41d100c2-4055-11f1-a3e9-0242ac11002b-1782481500000-de
DTSTAMP:20260425T031714Z
DTSTART:20260626T134500Z
DTEND:20260626T144500Z
SUMMARY;LANGUAGE=de:Entlassgottesdienst der Kita Strohn in der Kindertagesstätte
END:VEVENT
END:VCALENDAR
