BEGIN:VCALENDAR
VERSION:2.0
PRODID:http://www.pfarrei-gillenfeld.de
BEGIN:VEVENT
UID:0b53bdb7-eea4-11f0-8342-0242ac11002b-1776668400000-de
DTSTAMP:20260111T041438Z
DTSTART:20260420T070000Z
DTEND:20260420T073000Z
SUMMARY;LANGUAGE=de:Rosenkranzgebet f. d. Priester u. Ordensleute u. um geistliche Berufungen
END:VEVENT
END:VCALENDAR
