BEGIN:VCALENDAR
VERSION:2.0
PRODID:http://www.pfarrei-gillenfeld.de
BEGIN:VEVENT
UID:0a384f56-0180-11f1-8342-0242ac11002b-1778742000000-de
DTSTAMP:20260204T041446Z
DTSTART:20260514T070000Z
DTEND:20260514T083000Z
SUMMARY;LANGUAGE=de:Festhochamt (Messd. Gr. ) f. + Olaf Schützle f. + Alfons Göden f. ++ Ludwig u. Irmina Nicodemus f. Leb. u. ++ d. Fam. Rohr, Nicodemus, Meier f. ++ Ehel. Maria u. Leo Stappen u. + Sohn Peter 
END:VEVENT
END:VCALENDAR
